BEGIN:VCALENDAR
VERSION:2.0
PRODID:-//Good Shepherd Center - ECPv6.10.1.1//NONSGML v1.0//EN
CALSCALE:GREGORIAN
METHOD:PUBLISH
X-WR-CALNAME:Good Shepherd Center
X-ORIGINAL-URL:https://gscenter.org
X-WR-CALDESC:Events for Good Shepherd Center
REFRESH-INTERVAL;VALUE=DURATION:PT1H
X-Robots-Tag:noindex
X-PUBLISHED-TTL:PT1H
BEGIN:VTIMEZONE
TZID:UTC
BEGIN:STANDARD
TZOFFSETFROM:+0000
TZOFFSETTO:+0000
TZNAME:UTC
DTSTART:20250101T000000
END:STANDARD
END:VTIMEZONE
BEGIN:VEVENT
DTSTART;VALUE=DATE:20250221
DTEND;VALUE=DATE:20250222
DTSTAMP:20260422T174211
CREATED:20250217T104238Z
LAST-MODIFIED:20250217T113622Z
UID:542-1740096000-1740182399@gscenter.org
SUMMARY:Paint & Sip Party
DESCRIPTION:Join us for a fun filled evening of creativity\, laughter\, and a little sippin’
URL:https://gscenter.org/events/paint-sip-party/
LOCATION:Salem Lutheran Church\, 18324 Ashland Ave\, Homewood\, IL 60430\, Salem Lutheran Church\, 18324 Ashland Ave\, Homewood\, IL 60430\, IL\, 60430\, United States
ATTACH;FMTTYPE=image/jpeg:https://gscenter.org/wp-content/uploads/2025/02/event-paint-sip.jpg
ORGANIZER;CN="Gina Szpur%2C Development Director":MAILTO:gszpur@gscenter.org
END:VEVENT
END:VCALENDAR